{
"currentVersion": 11.3,
"cimVersion": "3.3.0",
"serviceDescription": "Inundation Uncertainty Associated with Elevation Data and Tidal Datum Conversion for Current Mean Higher High Water
\n\nThis dataset was created as part of the National Oceanic and Atmospheric Administration Office for Coastal Management's efforts to create an online mapping viewer depicting potential sea level rise and its associated impacts on the nation's coastal areas. The purpose of the mapping viewer is to provide coastal managers and scientists with a preliminary look at sea level rise and coastal flooding impacts. The viewer is a screening-level tool that uses nationally consistent data sets and analyses. Data and maps provided can be used at several scales to help gauge trends and prioritize actions for different scenarios.
\n\nThe purpose of this dataset is to depict errors that are directly related to elevation and water height data. These errors can be used to begin defining areas with mapped inundation that do not have the same level of confidence as other areas. For a detailed explanation of mapping methods, see http://www.coast.noaa.gov/slr/assets/pdfs/Elevation_Mapping_Confidence_Methods.pdf.
\n\nThe dataset should be used only as a screening-level tool for management decisions. As with all remotely sensed data, all features should be verified with a site visit. The dataset is provided "as is," without warranty to its performance, merchantable state, or fitness for any particular purpose. The entire risk associated with the results and performance of this dataset is assumed by the user. This dataset should be used strictly as a planning reference and not for navigation, permitting, or other legal purposes.
\n\nTiles have been cached down to Level ID 15 (1:18,055).
\n\nFor more information visit the Sea Level Rise Impacts Viewer (http://coast.noaa.gov/slr).",
"mapName": "Layers",
"description": "",
"copyrightText": "NOAA Office for Coastal Management",
"supportsDynamicLayers": false,
"layers": [
{
"id": 0,
"name": "SLR Confidence Symbology",
"parentLayerId": -1,
"defaultVisibility": true,
"subLayerIds": null,
"minScale": 0,
"maxScale": 0,
"type": "Raster Layer",
"supportsDynamicLegends": true
},
{
"id": 1,
"name": "SLR Viewer Data Extent",
"parentLayerId": -1,
"defaultVisibility": true,
"subLayerIds": null,
"minScale": 0,
"maxScale": 0,
"type": "Feature Layer",
"geometryType": "esriGeometryPolygon",
"supportsDynamicLegends": true
}
],
"tables": [],
"spatialReference": {
"wkid": 102100,
"latestWkid": 3857,
"xyTolerance": 0.001,
"zTolerance": 2,
"mTolerance": 2,
"falseX": -2.0787264106025003E7,
"falseY": -30241100,
"xyUnits": 1.471001103143901E8,
"falseZ": 0,
"zUnits": 10000,
"falseM": -100000,
"mUnits": 10000
},
"singleFusedMapCache": true,
"tileInfo": {
"rows": 256,
"cols": 256,
"dpi": 96,
"format": "PNG8",
"compressionQuality": 0,
"origin": {
"x": -2.0037508342787E7,
"y": 2.0037508342787E7
},
"spatialReference": {
"wkid": 102100,
"latestWkid": 3857,
"xyTolerance": 0.001,
"zTolerance": 0.001,
"mTolerance": 0.001,
"falseX": -20037700,
"falseY": -30241100,
"xyUnits": 1.4892314192838538E8,
"falseZ": -100000,
"zUnits": 10000,
"falseM": -100000,
"mUnits": 10000
},
"lods": [
{
"level": 0,
"resolution": 156543.03392800014,
"scale": 5.91657527591555E8
},
{
"level": 1,
"resolution": 78271.51696399994,
"scale": 2.95828763795777E8
},
{
"level": 2,
"resolution": 39135.75848200009,
"scale": 1.47914381897889E8
},
{
"level": 3,
"resolution": 19567.87924099992,
"scale": 7.3957190948944E7
},
{
"level": 4,
"resolution": 9783.93962049996,
"scale": 3.6978595474472E7
},
{
"level": 5,
"resolution": 4891.96981024998,
"scale": 1.8489297737236E7
},
{
"level": 6,
"resolution": 2445.98490512499,
"scale": 9244648.868618
},
{
"level": 7,
"resolution": 1222.992452562495,
"scale": 4622324.434309
},
{
"level": 8,
"resolution": 611.4962262813797,
"scale": 2311162.217155
},
{
"level": 9,
"resolution": 305.74811314055756,
"scale": 1155581.108577
},
{
"level": 10,
"resolution": 152.87405657041106,
"scale": 577790.554289
},
{
"level": 11,
"resolution": 76.43702828507324,
"scale": 288895.277144
},
{
"level": 12,
"resolution": 38.21851414253662,
"scale": 144447.638572
},
{
"level": 13,
"resolution": 19.10925707126831,
"scale": 72223.819286
},
{
"level": 14,
"resolution": 9.554628535634155,
"scale": 36111.909643
},
{
"level": 15,
"resolution": 4.77731426794937,
"scale": 18055.954822
},
{
"level": 16,
"resolution": 2.388657133974685,
"scale": 9027.977411
},
{
"level": 17,
"resolution": 1.1943285668550503,
"scale": 4513.988705
},
{
"level": 18,
"resolution": 0.5971642835598172,
"scale": 2256.994353
},
{
"level": 19,
"resolution": 0.29858214164761665,
"scale": 1128.497176
}
]
},
"storageInfo": {
"storageFormat": "esriMapCacheStorageModeCompactV2",
"packetSize": 128
},
"initialExtent": {
"xmin": -9014793.32804442,
"ymin": 3760103.306944259,
"xmax": -8993343.599205503,
"ymax": 3769631.4053769964,
"spatialReference": {
"cs": "pcs",
"wkid": 102100
}
},
"fullExtent": {
"xmin": -1.90243444873E7,
"ymin": -1622959.422600001,
"xmax": 1.6234047887199998E7,
"ymax": 6275285.699199997,
"spatialReference": {
"cs": "pcs",
"wkid": 102100
}
},
"datesInUnknownTimezone": false,
"minScale": 7.3957190948944E7,
"maxScale": 4513.988705,
"units": "esriMeters",
"supportedImageFormatTypes": "PNG32,PNG24,PNG,JPG,DIB,TIFF,EMF,PS,PDF,GIF,SVG,SVGZ,BMP",
"documentInfo": {
"Title": "Inundation Uncertainty Associated with Elevation Data and Tidal Datum Conversion for Current Mean Higher High Water",
"Author": "coastal.info@noaa.gov",
"Comments": "Inundation Uncertainty Associated with Elevation Data and Tidal Datum Conversion for Current Mean Higher High Water
\n\nThis dataset was created as part of the National Oceanic and Atmospheric Administration Office for Coastal Management's efforts to create an online mapping viewer depicting potential sea level rise and its associated impacts on the nation's coastal areas. The purpose of the mapping viewer is to provide coastal managers and scientists with a preliminary look at sea level rise and coastal flooding impacts. The viewer is a screening-level tool that uses nationally consistent data sets and analyses. Data and maps provided can be used at several scales to help gauge trends and prioritize actions for different scenarios.
\n\nThe purpose of this dataset is to depict errors that are directly related to elevation and water height data. These errors can be used to begin defining areas with mapped inundation that do not have the same level of confidence as other areas. For a detailed explanation of mapping methods, see http://www.coast.noaa.gov/slr/assets/pdfs/Elevation_Mapping_Confidence_Methods.pdf.
\n\nThe dataset should be used only as a screening-level tool for management decisions. As with all remotely sensed data, all features should be verified with a site visit. The dataset is provided "as is," without warranty to its performance, merchantable state, or fitness for any particular purpose. The entire risk associated with the results and performance of this dataset is assumed by the user. This dataset should be used strictly as a planning reference and not for navigation, permitting, or other legal purposes.
\n\nTiles have been cached down to Level ID 15 (1:18,055).
\n\nFor more information visit the Sea Level Rise Impacts Viewer (http://coast.noaa.gov/slr).",
"Subject": "",
"Category": "",
"Version": "10.1",
"AntialiasingMode": "None",
"TextAntialiasingMode": "Force",
"Keywords": "Elevation,Uncertainty,Bathymetry/Topography,Sea Level Rise,Shoreline,Inundation"
},
"supportsQueryDomains": true,
"capabilities": "Map,Query,Data",
"supportedQueryFormats": "JSON, geoJSON, PBF",
"exportTilesAllowed": false,
"referenceScale": 0.0,
"supportsDatumTransformation": true,
"archivingInfo": {"supportsHistoricMoment": false},
"supportsClipping": true,
"supportsSpatialFilter": true,
"supportsTimeRelation": true,
"supportsQueryDataElements": true,
"mapUnits": {"uwkid": 9001},
"maxRecordCount": 1000,
"maxImageHeight": 4096,
"maxImageWidth": 4096,
"supportedExtensions": "KmlServer, WMSServer",
"resampling": false,
"serviceItemId": "56376d786e5348a6849116f1ec8e504e"
}