View In:
ArcGIS JavaScript
ArcGIS Online Map Viewer
ArcGIS Earth
ArcMap
ArcGIS Pro
View Footprint In:
ArcGIS Online Map Viewer
Service Description: The Division of Environmental Sciences manages the Environmental Studies Program (ESP) for the Bureau of Ocean Energy Management (BOEM).
ESP develops, conducts and oversees world-class scientific research specifically to inform policy decisions regarding development of Outer Continental Shelf (OCS) energy and mineral resources. Research covers physical oceanography, atmospheric sciences, biology, protected species, social sciences and economics, submerged cultural resources and environmental fates and effects. BOEM is a leading contributor to the growing body of scientific knowledge about the nation’s marine and coastal environment.
Map Name: geoESPISBasemap
Legend
All Layers and Tables
Layers:
Description: The Division of Environmental Sciences manages the Environmental Studies Program (ESP) for the Bureau of Ocean Energy Management (BOEM).
ESP develops, conducts and oversees world-class scientific research specifically to inform policy decisions regarding development of Outer Continental Shelf (OCS) energy and mineral resources. Research covers physical oceanography, atmospheric sciences, biology, protected species, social sciences and economics, submerged cultural resources and environmental fates and effects. BOEM is a leading contributor to the growing body of scientific knowledge about the nation’s marine and coastal environment.
Service Item Id: dcccd38a3a8f4a848461970ef7041a0d
Copyright Text: BOEM, NOAA OCM
Spatial Reference:
102100
(3857)
Single Fused Map Cache: true
Tile Info:
- Height: 256
- Width: 256
- DPI: 96
-
Levels of Detail: 17
-
Level ID: 0
[ Start Tile, End Tile ]
- Resolution: 156543.03392800014
- Scale: 5.91657527591555E8
-
Level ID: 1
[ Start Tile, End Tile ]
- Resolution: 78271.51696399994
- Scale: 2.95828763795777E8
-
Level ID: 2
[ Start Tile, End Tile ]
- Resolution: 39135.75848200009
- Scale: 1.47914381897889E8
-
Level ID: 3
[ Start Tile, End Tile ]
- Resolution: 19567.87924099992
- Scale: 7.3957190948944E7
-
Level ID: 4
[ Start Tile, End Tile ]
- Resolution: 9783.93962049996
- Scale: 3.6978595474472E7
-
Level ID: 5
[ Start Tile, End Tile ]
- Resolution: 4891.96981024998
- Scale: 1.8489297737236E7
- Format: PNG
- Compression Quality: 0.0
- Origin: X: -2.0037508342787E7
Y: 2.0037508342787E7
- Spatial Reference: 102100
(3857)
Storage Info:
- Storage Format: esriMapCacheStorageModeCompactV2
- Packet Size: 128
Initial Extent:
XMin: -2.2154318206883658E7
YMin: -548248.8244423755
XMax: -9349098.031573314
YMax: 1.1442947574442372E7
Spatial Reference: 102100
(3857)
Full Extent:
XMin: -2.00375070672E7
YMin: -1985527.1677
XMax: 2.0037507067199998E7
YMax: 1.29306756069E7
Spatial Reference: 102100
(3857)
Units: esriMeters
Supported Image Format Types: PNG32,PNG24,PNG,JPG,DIB,TIFF,EMF,PS,PDF,GIF,SVG,SVGZ,BMP
Document Info:
Title: Layers
Author:
Comments: The Division of Environmental Sciences manages the Environmental Studies Program (ESP) for the Bureau of Ocean Energy Management (BOEM).
ESP develops, conducts and oversees world-class scientific research specifically to inform policy decisions regarding development of Outer Continental Shelf (OCS) energy and mineral resources. Research covers physical oceanography, atmospheric sciences, biology, protected species, social sciences and economics, submerged cultural resources and environmental fates and effects. BOEM is a leading contributor to the growing body of scientific knowledge about the nation’s marine and coastal environment.
Subject: The Division of Environmental Sciences manages the Environmental Studies Program (ESP) for the Bureau of Ocean Energy Management (BOEM).
Category:
Keywords: geoESPIS,EEZ,SLA,OCS
AntialiasingMode: None
TextAntialiasingMode: Force
Supports Dynamic Layers: false
MaxRecordCount: 2000
MaxImageHeight: 4096
MaxImageWidth: 4096
Supported Query Formats: JSON, geoJSON, PBF
Supports Query Data Elements: true
Min Scale: 0
Max Scale: 0
Supports Datum Transformation: true
Child Resources:
Info
Supported Operations:
Export Map
Identify
QueryLegends
QueryDomains
Find
Return Updates