0.00000315000000
0.00000000000000
0.00000000000000
-0.00000275000000
-89.40625144500000
29.15625074500000
