0.00000315000000
0.00000000000000
0.00000000000000
-0.00000275000000
-89.43749944500000
29.37499949500000
