0.00000315000000
0.00000000000000
0.00000000000000
-0.00000275000000
-90.28124899500000
29.21874999500000
