0.00000315000000
0.00000000000000
0.00000000000000
-0.00000275000000
-90.31250014500000
29.46874974500000
