0.00000315000000
0.00000000000000
0.00000000000000
-0.00000275000000
-90.50000074499999
29.78124874500000
