0.00000318057110
0.00000000000000
0.00000000000000
-0.00000274931900
-88.34375015923440
30.31249965074300
