0.00000318057110
0.00000000000000
0.00000000000000
-0.00000274931900
-88.24999964549080
30.46874894815100
