0.00000318057110
0.00000000000000
0.00000000000000
-0.00000274931900
-88.18749874696830
30.62500062404900
