0.00000318057110
0.00000000000000
0.00000000000000
-0.00000274931900
-88.31250104817690
30.56250072605100
