0.00000318032080
0.00000000000000
0.00000000000000
-0.00000274932240
-89.00000043190720
30.74999948979920
