0.00000318057110
0.00000000000000
0.00000000000000
-0.00000274931900
-88.62499859234420
30.81249874872700
