0.00000318057110
0.00000000000000
0.00000000000000
-0.00000274931900
-88.56250032192901
30.78124992624800
