0.00000318057110
0.00000000000000
0.00000000000000
-0.00000274931900
-88.81250014894600
30.87499967204400
