0.00000318032080
0.00000000000000
0.00000000000000
-0.00000274932240
-89.62500000716560
30.34375090330880
