0.00000318032080
0.00000000000000
0.00000000000000
-0.00000274932240
-89.31249875371520
30.50000085464480
