0.00000318032080
0.00000000000000
0.00000000000000
-0.00000274932240
-89.75000012237200
30.62499883682720
