0.00000318032080
0.00000000000000
0.00000000000000
-0.00000274932240
-89.68749999267919
30.56250074006480
