0.00000317719070
0.00000000000000
0.00000000000000
-0.00000274936310
-89.78124983868001
30.59374951676480
