0.00000317719070
0.00000000000000
0.00000000000000
-0.00000274936310
-89.81250068640522
30.65625078811710
