0.00000318032080
0.00000000000000
0.00000000000000
-0.00000274932240
-89.09374999699760
30.81249983591840
