0.00000318032080
0.00000000000000
0.00000000000000
-0.00000274932240
-89.18749949354000
30.96874932655520
