0.00000318032080
0.00000000000000
0.00000000000000
-0.00000274932240
-89.21874932572081
30.93750052815680
