0.00000318032080
0.00000000000000
0.00000000000000
-0.00000274932240
-89.71874982486000
30.96874886585600
