0.00000315000000
0.00000000000000
0.00000000000000
-0.00000275000000
-90.53124874500000
30.12499874500000
