0.00000317719070
0.00000000000000
0.00000000000000
-0.00000274936310
-90.59374936482301
30.43750130957270
