0.00000317719070
0.00000000000000
0.00000000000000
-0.00000274936310
-90.62499703535751
30.74999941824490
