0.00000317719070
0.00000000000000
0.00000000000000
-0.00000274936310
-90.56249851709781
30.71875015725030
