0.00000317719070
0.00000000000000
0.00000000000000
-0.00000274936310
-90.06250083713910
30.87500137463280
