0.00000317719070
0.00000000000000
0.00000000000000
-0.00000274936310
-90.21874899807001
31.03125016814160
