1.600000
0.000000
-0.000000
-1.600000
200000.800000
59999.200000
