1.600000
0.000000
-0.000000
-1.600000
250000.800000
119999.200000
