1.600000
0.000000
-0.000000
-1.600000
300000.800000
94999.200000
