1.600000
0.000000
-0.000000
-1.600000
330000.800000
124999.200000
