1.600000
0.000000
-0.000000
-1.600000
330000.800000
254999.200000
