1.600000
0.000000
-0.000000
-1.600000
335000.800000
214999.200000
