1.600000
0.000000
-0.000000
-1.600000
340000.800000
94999.200000
