1.600000
0.000000
-0.000000
-1.600000
365000.800000
154999.200000
