1.600000
0.000000
-0.000000
-1.600000
435000.800000
164999.200000
