0.15000000000000
0.00000000000000
0.00000000000000
-0.15000000000000
669000.07499999995343
4566749.92499999981374
