0.15000000000000
0.00000000000000
0.00000000000000
-0.15000000000000
736500.07499999995343
4577999.92499999981374
