0.15000000000000
0.00000000000000
0.00000000000000
-0.15000000000000
702000.07499999995343
4609499.92499999981374
