0.15000000000000
0.00000000000000
0.00000000000000
-0.15000000000000
381750.07500000001164
4805249.92499999981374
