0.15000000000000
0.00000000000000
0.00000000000000
-0.15000000000000
393750.07500000001164
4838999.92499999981374
