0.15000000000000
0.00000000000000
0.00000000000000
-0.15000000000000
417000.07500000001164
4846499.92499999981374
