0.15000000000000
0.00000000000000
0.00000000000000
-0.15000000000000
420000.07500000001164
4862999.92499999981374
