0.15000000000000
0.00000000000000
0.00000000000000
-0.15000000000000
427500.07500000001164
4859249.92499999981374
