0.15000000000000
0.00000000000000
0.00000000000000
-0.15000000000000
436500.07500000001164
4887749.92499999981374
