0.15000000000000
0.00000000000000
0.00000000000000
-0.15000000000000
440250.07500000001164
4859999.92499999981374
